BEGIN:VCALENDAR
VERSION:2.0
PRODID:-//Mầm Non Phương Anh - ECPv6.0.6.1//NONSGML v1.0//EN
CALSCALE:GREGORIAN
METHOD:PUBLISH
X-WR-CALNAME:Mầm Non Phương Anh
X-ORIGINAL-URL:https://mamnonphuonganh.com.vn
X-WR-CALDESC:Events for Mầm Non Phương Anh
REFRESH-INTERVAL;VALUE=DURATION:PT1H
X-Robots-Tag:noindex
X-PUBLISHED-TTL:PT1H
BEGIN:VTIMEZONE
TZID:Asia/Krasnoyarsk
BEGIN:STANDARD
TZOFFSETFROM:+0700
TZOFFSETTO:+0700
TZNAME:+07
DTSTART:20230101T000000
END:STANDARD
END:VTIMEZONE
BEGIN:VEVENT
DTSTART;TZID=Asia/Krasnoyarsk:20230607T090000
DTEND;TZID=Asia/Krasnoyarsk:20230607T230000
DTSTAMP:20260424T204007
CREATED:20230630T095059Z
LAST-MODIFIED:20230630T095059Z
UID:4238-1686128400-1686178800@mamnonphuonganh.com.vn
SUMMARY:Trải Nghiệm Khối Venus
DESCRIPTION:
URL:https://mamnonphuonganh.com.vn/event/trai-nghiem-khoi-venus/
END:VEVENT
END:VCALENDAR