BEGIN:VCALENDAR
VERSION:2.0
PRODID:-//Mầm Non Phương Anh - ECPv6.0.6.1//NONSGML v1.0//EN
CALSCALE:GREGORIAN
METHOD:PUBLISH
X-ORIGINAL-URL:https://mamnonphuonganh.com.vn
X-WR-CALDESC:Events for Mầm Non Phương Anh
REFRESH-INTERVAL;VALUE=DURATION:PT1H
X-Robots-Tag:noindex
X-PUBLISHED-TTL:PT1H
BEGIN:VTIMEZONE
TZID:Asia/Krasnoyarsk
BEGIN:STANDARD
TZOFFSETFROM:+0700
TZOFFSETTO:+0700
TZNAME:+07
DTSTART:20230101T000000
END:STANDARD
END:VTIMEZONE
BEGIN:VEVENT
DTSTART;TZID=Asia/Krasnoyarsk:20230721T080000
DTEND;TZID=Asia/Krasnoyarsk:20230721T123000
DTSTAMP:20260424T190541
CREATED:20230630T100258Z
LAST-MODIFIED:20230719T100618Z
UID:4245-1689926400-1689942600@mamnonphuonganh.com.vn
SUMMARY:Du Lịch Thủy Cung Khối 5-6 tuổi
DESCRIPTION:
URL:https://mamnonphuonganh.com.vn/event/du-lich-thuy-cung-khoi-steam/
CATEGORIES:Sự kiện Phương Anh
ATTACH;FMTTYPE=image/jpeg:https://mamnonphuonganh.com.vn/wp-content/uploads/2023/06/vinpearl-land-phu-quoc-01.jpg
END:VEVENT
END:VCALENDAR