BEGIN:VCALENDAR
VERSION:2.0
PRODID:-//Mầm Non Phương Anh - ECPv6.0.6.1//NONSGML v1.0//EN
CALSCALE:GREGORIAN
METHOD:PUBLISH
X-WR-CALNAME:Mầm Non Phương Anh
X-ORIGINAL-URL:https://mamnonphuonganh.com.vn
X-WR-CALDESC:Events for Mầm Non Phương Anh
REFRESH-INTERVAL;VALUE=DURATION:PT1H
X-Robots-Tag:noindex
X-PUBLISHED-TTL:PT1H
BEGIN:VTIMEZONE
TZID:Asia/Krasnoyarsk
BEGIN:STANDARD
TZOFFSETFROM:+0700
TZOFFSETTO:+0700
TZNAME:+07
DTSTART:20230101T000000
END:STANDARD
END:VTIMEZONE
BEGIN:VEVENT
DTSTART;TZID=Asia/Krasnoyarsk:20230815T100000
DTEND;TZID=Asia/Krasnoyarsk:20230815T230000
DTSTAMP:20260424T174957
CREATED:20230803T044833Z
LAST-MODIFIED:20230803T044833Z
UID:4602-1692093600-1692140400@mamnonphuonganh.com.vn
SUMMARY:Buffet tháng 8
DESCRIPTION:
URL:https://mamnonphuonganh.com.vn/event/buffet-thang-8/
CATEGORIES:Sự kiện Phương Anh
ATTACH;FMTTYPE=image/jpeg:https://mamnonphuonganh.com.vn/wp-content/uploads/2023/08/z4566617762526_5969651b94789f6a908475c154dca492.jpg
END:VEVENT
END:VCALENDAR