BEGIN:VCALENDAR
VERSION:2.0
PRODID:-//Mầm Non Phương Anh - ECPv6.0.6.1//NONSGML v1.0//EN
CALSCALE:GREGORIAN
METHOD:PUBLISH
X-WR-CALNAME:Mầm Non Phương Anh
X-ORIGINAL-URL:https://mamnonphuonganh.com.vn
X-WR-CALDESC:Events for Mầm Non Phương Anh
REFRESH-INTERVAL;VALUE=DURATION:PT1H
X-Robots-Tag:noindex
X-PUBLISHED-TTL:PT1H
BEGIN:VTIMEZONE
TZID:Asia/Krasnoyarsk
BEGIN:STANDARD
TZOFFSETFROM:+0700
TZOFFSETTO:+0700
TZNAME:+07
DTSTART:20230101T000000
END:STANDARD
END:VTIMEZONE
BEGIN:VEVENT
DTSTART;TZID=Asia/Krasnoyarsk:20231008T080000
DTEND;TZID=Asia/Krasnoyarsk:20231008T233000
DTSTAMP:20260422T123253
CREATED:20231002T042610Z
LAST-MODIFIED:20231002T042610Z
UID:4899-1696752000-1696807800@mamnonphuonganh.com.vn
SUMMARY:Hội Nghị CBGVNV Năm Học 2023-2024
DESCRIPTION:
URL:https://mamnonphuonganh.com.vn/event/hoi-nghi-cbgvnv-nam-hoc-2023-2024/
CATEGORIES:Sự kiện Phương Anh
ATTACH;FMTTYPE=image/jpeg:https://mamnonphuonganh.com.vn/wp-content/uploads/2023/10/z4121210115315_fe45a7384b4d5b3071ca7b2be9acfab2-scaled.jpg
END:VEVENT
END:VCALENDAR