BEGIN:VCALENDAR
VERSION:2.0
PRODID:-//Mầm Non Phương Anh - ECPv6.0.6.1//NONSGML v1.0//EN
CALSCALE:GREGORIAN
METHOD:PUBLISH
X-WR-CALNAME:Mầm Non Phương Anh
X-ORIGINAL-URL:https://mamnonphuonganh.com.vn
X-WR-CALDESC:Events for Mầm Non Phương Anh
REFRESH-INTERVAL;VALUE=DURATION:PT1H
X-Robots-Tag:noindex
X-PUBLISHED-TTL:PT1H
BEGIN:VTIMEZONE
TZID:Asia/Krasnoyarsk
BEGIN:STANDARD
TZOFFSETFROM:+0700
TZOFFSETTO:+0700
TZNAME:+07
DTSTART:20230101T000000
END:STANDARD
END:VTIMEZONE
BEGIN:VEVENT
DTSTART;TZID=Asia/Krasnoyarsk:20231020T090000
DTEND;TZID=Asia/Krasnoyarsk:20231020T110000
DTSTAMP:20260422T122350
CREATED:20231018T023743Z
LAST-MODIFIED:20231018T091931Z
UID:4945-1697792400-1697799600@mamnonphuonganh.com.vn
SUMMARY:Khám sức khỏe cho bé định kỳ lần 1 năm học 2023-2024
DESCRIPTION:
URL:https://mamnonphuonganh.com.vn/event/kham-suc-khoe-cho-be-dinh-ky-lan-1-nam-hoc-2023-2024/
CATEGORIES:Sự kiện Phương Anh
ATTACH;FMTTYPE=image/jpeg:https://mamnonphuonganh.com.vn/wp-content/uploads/2023/10/images.jpg
END:VEVENT
END:VCALENDAR