BEGIN:VCALENDAR
VERSION:2.0
PRODID:-//Mầm Non Phương Anh - ECPv6.0.6.1//NONSGML v1.0//EN
CALSCALE:GREGORIAN
METHOD:PUBLISH
X-ORIGINAL-URL:https://mamnonphuonganh.com.vn
X-WR-CALDESC:Events for Mầm Non Phương Anh
REFRESH-INTERVAL;VALUE=DURATION:PT1H
X-Robots-Tag:noindex
X-PUBLISHED-TTL:PT1H
BEGIN:VTIMEZONE
TZID:Asia/Krasnoyarsk
BEGIN:STANDARD
TZOFFSETFROM:+0700
TZOFFSETTO:+0700
TZNAME:+07
DTSTART:20230101T000000
END:STANDARD
END:VTIMEZONE
BEGIN:VEVENT
DTSTART;VALUE=DATE:20231207
DTEND;VALUE=DATE:20231208
DTSTAMP:20260424T162331
CREATED:20231204T093133Z
LAST-MODIFIED:20231204T101002Z
UID:5289-1701907200-1701993599@mamnonphuonganh.com.vn
SUMMARY:Chương trình dã ngoại "Du Hành Đến Mê Cung Hải Đăng" lớp 4-5 Tuổi
DESCRIPTION:
URL:https://mamnonphuonganh.com.vn/event/chuong-trinh-da-ngoai-du-hanh-den-me-cung-hai-dang-lop-4-5-tuoi/
ATTACH;FMTTYPE=image/jpeg:https://mamnonphuonganh.com.vn/wp-content/uploads/2023/12/9625433888607727596.jpg
END:VEVENT
END:VCALENDAR