BEGIN:VCALENDAR
VERSION:2.0
PRODID:-//Mầm Non Phương Anh - ECPv6.0.6.1//NONSGML v1.0//EN
CALSCALE:GREGORIAN
METHOD:PUBLISH
X-WR-CALNAME:Mầm Non Phương Anh
X-ORIGINAL-URL:https://mamnonphuonganh.com.vn
X-WR-CALDESC:Events for Mầm Non Phương Anh
REFRESH-INTERVAL;VALUE=DURATION:PT1H
X-Robots-Tag:noindex
X-PUBLISHED-TTL:PT1H
BEGIN:VTIMEZONE
TZID:Asia/Krasnoyarsk
BEGIN:STANDARD
TZOFFSETFROM:+0700
TZOFFSETTO:+0700
TZNAME:+07
DTSTART:20240101T000000
END:STANDARD
END:VTIMEZONE
BEGIN:VEVENT
DTSTART;TZID=Asia/Krasnoyarsk:20240103T080000
DTEND;TZID=Asia/Krasnoyarsk:20240112T080000
DTSTAMP:20260422T070451
CREATED:20240102T071644Z
LAST-MODIFIED:20240102T071712Z
UID:5505-1704268800-1705046400@mamnonphuonganh.com.vn
SUMMARY:Test học sinh học kì I năm học 2023-2024
DESCRIPTION:
URL:https://mamnonphuonganh.com.vn/event/test-hoc-sinh-hoc-ki-i-nam-hoc-2023-2024/
ATTACH;FMTTYPE=image/jpeg:https://mamnonphuonganh.com.vn/wp-content/uploads/2024/01/399644924_840391688086506_3066712424301990365_n.jpg
END:VEVENT
END:VCALENDAR