BEGIN:VCALENDAR
VERSION:2.0
PRODID:-//Mầm Non Phương Anh - ECPv6.0.6.1//NONSGML v1.0//EN
CALSCALE:GREGORIAN
METHOD:PUBLISH
X-ORIGINAL-URL:https://mamnonphuonganh.com.vn
X-WR-CALDESC:Events for Mầm Non Phương Anh
REFRESH-INTERVAL;VALUE=DURATION:PT1H
X-Robots-Tag:noindex
X-PUBLISHED-TTL:PT1H
BEGIN:VTIMEZONE
TZID:Asia/Krasnoyarsk
BEGIN:STANDARD
TZOFFSETFROM:+0700
TZOFFSETTO:+0700
TZNAME:+07
DTSTART:20240101T000000
END:STANDARD
END:VTIMEZONE
BEGIN:VEVENT
DTSTART;TZID=Asia/Krasnoyarsk:20240813T083000
DTEND;TZID=Asia/Krasnoyarsk:20240815T103000
DTSTAMP:20260421T000411
CREATED:20240814T065751Z
LAST-MODIFIED:20240814T065751Z
UID:6362-1723537800-1723717800@mamnonphuonganh.com.vn
SUMMARY:Phuong Anh's Kid Cinema
DESCRIPTION:
URL:https://mamnonphuonganh.com.vn/event/phuong-anhs-kid-cinema/
CATEGORIES:Sự kiện Phương Anh
ATTACH;FMTTYPE=image/jpeg:https://mamnonphuonganh.com.vn/wp-content/uploads/2024/08/455652171_1037532225039117_7422201238875634863_n.jpg
END:VEVENT
END:VCALENDAR