BEGIN:VCALENDAR
VERSION:2.0
PRODID:-//Mầm Non Phương Anh - ECPv6.0.6.1//NONSGML v1.0//EN
CALSCALE:GREGORIAN
METHOD:PUBLISH
X-ORIGINAL-URL:https://mamnonphuonganh.com.vn
X-WR-CALDESC:Events for Mầm Non Phương Anh
REFRESH-INTERVAL;VALUE=DURATION:PT1H
X-Robots-Tag:noindex
X-PUBLISHED-TTL:PT1H
BEGIN:VTIMEZONE
TZID:Asia/Krasnoyarsk
BEGIN:STANDARD
TZOFFSETFROM:+0700
TZOFFSETTO:+0700
TZNAME:+07
DTSTART:20240101T000000
END:STANDARD
END:VTIMEZONE
BEGIN:VEVENT
DTSTART;VALUE=DATE:20240831
DTEND;VALUE=DATE:20240904
DTSTAMP:20260421T000536
CREATED:20240830T035747Z
LAST-MODIFIED:20240830T035956Z
UID:6398-1725062400-1725407999@mamnonphuonganh.com.vn
SUMMARY:📣THÔNG BÁO LỊCH NGHỈ LỄ QUỐC KHÁNH 02/09/2024
DESCRIPTION:
URL:https://mamnonphuonganh.com.vn/event/%f0%9f%93%a3thong-bao-lich-nghi-le-quoc-khanh-02-09-2024/
CATEGORIES:Ngày lễ
ATTACH;FMTTYPE=image/jpeg:https://mamnonphuonganh.com.vn/wp-content/uploads/2024/08/457184838_1049782987147374_5797031736932874965_n.jpg
END:VEVENT
END:VCALENDAR