BEGIN:VCALENDAR
VERSION:2.0
PRODID:-//Mầm Non Phương Anh - ECPv6.0.6.1//NONSGML v1.0//EN
CALSCALE:GREGORIAN
METHOD:PUBLISH
X-WR-CALNAME:Mầm Non Phương Anh
X-ORIGINAL-URL:https://mamnonphuonganh.com.vn
X-WR-CALDESC:Events for Mầm Non Phương Anh
REFRESH-INTERVAL;VALUE=DURATION:PT1H
X-Robots-Tag:noindex
X-PUBLISHED-TTL:PT1H
BEGIN:VTIMEZONE
TZID:Asia/Krasnoyarsk
BEGIN:STANDARD
TZOFFSETFROM:+0700
TZOFFSETTO:+0700
TZNAME:+07
DTSTART:20250101T000000
END:STANDARD
END:VTIMEZONE
BEGIN:VEVENT
DTSTART;TZID=Asia/Krasnoyarsk:20250117T150000
DTEND;TZID=Asia/Krasnoyarsk:20250117T170000
DTSTAMP:20260424T050718
CREATED:20250116T093426Z
LAST-MODIFIED:20250116T093438Z
UID:6896-1737126000-1737133200@mamnonphuonganh.com.vn
SUMMARY:Lễ hội hương sắc xuân 2025
DESCRIPTION:
URL:https://mamnonphuonganh.com.vn/event/le-hoi-huong-sac-xuan-2025/
CATEGORIES:Sự kiện Phương Anh
ATTACH;FMTTYPE=image/jpeg:https://mamnonphuonganh.com.vn/wp-content/uploads/2025/01/z6230782029736_33bc456353d8e33c43c7e8f56955dbe1.jpg
END:VEVENT
END:VCALENDAR