BEGIN:VCALENDAR
VERSION:2.0
PRODID:-//Mầm Non Phương Anh - ECPv6.0.6.1//NONSGML v1.0//EN
CALSCALE:GREGORIAN
METHOD:PUBLISH
X-WR-CALNAME:Mầm Non Phương Anh
X-ORIGINAL-URL:https://mamnonphuonganh.com.vn
X-WR-CALDESC:Events for Mầm Non Phương Anh
REFRESH-INTERVAL;VALUE=DURATION:PT1H
X-Robots-Tag:noindex
X-PUBLISHED-TTL:PT1H
BEGIN:VTIMEZONE
TZID:Asia/Krasnoyarsk
BEGIN:STANDARD
TZOFFSETFROM:+0700
TZOFFSETTO:+0700
TZNAME:+07
DTSTART:20250101T000000
END:STANDARD
END:VTIMEZONE
BEGIN:VEVENT
DTSTART;TZID=Asia/Krasnoyarsk:20250219T100000
DTEND;TZID=Asia/Krasnoyarsk:20250219T233000
DTSTAMP:20260424T034012
CREATED:20250217T033625Z
LAST-MODIFIED:20250217T033722Z
UID:7021-1739959200-1740007800@mamnonphuonganh.com.vn
SUMMARY:TIỆC BUFFET CHÚC MỪNG SINH NHẬT BÉ THÁNG 2
DESCRIPTION:
URL:https://mamnonphuonganh.com.vn/event/tiec-buffet-chuc-mung-sinh-nhat-be-thang-2/
CATEGORIES:Sự kiện Phương Anh
ATTACH;FMTTYPE=image/jpeg:https://mamnonphuonganh.com.vn/wp-content/uploads/2025/02/z5098318533043_73002fb0d93e33c95f155cd8ec713051-scaled.jpg
END:VEVENT
END:VCALENDAR