BEGIN:VCALENDAR
VERSION:2.0
PRODID:-//Mầm Non Phương Anh - ECPv6.0.6.1//NONSGML v1.0//EN
CALSCALE:GREGORIAN
METHOD:PUBLISH
X-WR-CALNAME:Mầm Non Phương Anh
X-ORIGINAL-URL:https://mamnonphuonganh.com.vn
X-WR-CALDESC:Events for Mầm Non Phương Anh
REFRESH-INTERVAL;VALUE=DURATION:PT1H
X-Robots-Tag:noindex
X-PUBLISHED-TTL:PT1H
BEGIN:VTIMEZONE
TZID:Asia/Krasnoyarsk
BEGIN:STANDARD
TZOFFSETFROM:+0700
TZOFFSETTO:+0700
TZNAME:+07
DTSTART:20230101T000000
END:STANDARD
END:VTIMEZONE
BEGIN:VEVENT
DTSTART;TZID=Asia/Krasnoyarsk:20230429T080000
DTEND;TZID=Asia/Krasnoyarsk:20230503T170000
DTSTAMP:20260424T205622
CREATED:20230428T062957Z
LAST-MODIFIED:20230428T062957Z
UID:4069-1682755200-1683133200@mamnonphuonganh.com.vn
SUMMARY:Thông báo lịch nghỉ "Giỗ tổ Hùng Vương\, Chiến Thắng 30/04 và Quốc Tế Lao Động 01/05/2023"
DESCRIPTION:
URL:https://mamnonphuonganh.com.vn/event/thong-bao-lich-nghi-gio-to-hung-vuong-chien-thang-30-04-va-quoc-te-lao-dong-01-05-2023/
CATEGORIES:Ngày lễ
ATTACH;FMTTYPE=image/jpeg:https://mamnonphuonganh.com.vn/wp-content/uploads/2023/04/z4301527731963_f034a3f8607fd3fb2de7a3aa751dc72c.jpg
END:VEVENT
BEGIN:VEVENT
DTSTART;TZID=Asia/Krasnoyarsk:20230507T080000
DTEND;TZID=Asia/Krasnoyarsk:20230507T113000
DTSTAMP:20260424T205622
CREATED:20230522T040259Z
LAST-MODIFIED:20230522T043328Z
UID:4114-1683446400-1683459000@mamnonphuonganh.com.vn
SUMMARY:THAM GIA TRẢI NGHIỆM TẠI TRƯỜNG LIÊN CẤP FPT
DESCRIPTION:
URL:https://mamnonphuonganh.com.vn/event/tham-gia-trai-nghiem-tai-truong-lien-cap-fpt/
CATEGORIES:Sự kiện Phương Anh
ATTACH;FMTTYPE=image/jpeg:https://mamnonphuonganh.com.vn/wp-content/uploads/2023/05/truong-pho-thong-lien-cap-fpt-bac-ninh.jpg
END:VEVENT
BEGIN:VEVENT
DTSTART;TZID=Asia/Krasnoyarsk:20230517T083000
DTEND;TZID=Asia/Krasnoyarsk:20230517T103000
DTSTAMP:20260424T205622
CREATED:20230522T041647Z
LAST-MODIFIED:20230522T043510Z
UID:4118-1684312200-1684319400@mamnonphuonganh.com.vn
SUMMARY:THAM GIA TRẢI NGHIỆM TẠI TRƯỜNG TIỂU HỌC SUỐI HOA
DESCRIPTION:
URL:https://mamnonphuonganh.com.vn/event/tham-gia-trai-nghiem-tai-truong-tieu-hoc-suoi-hoa/
ATTACH;FMTTYPE=image/jpeg:https://mamnonphuonganh.com.vn/wp-content/uploads/2023/05/z4353416992883_6fd561bcbba948924bc00e3fea76efad-scaled.jpg
END:VEVENT
BEGIN:VEVENT
DTSTART;TZID=Asia/Krasnoyarsk:20230524T100000
DTEND;TZID=Asia/Krasnoyarsk:20230524T113000
DTSTAMP:20260424T205622
CREATED:20230522T042756Z
LAST-MODIFIED:20230522T042820Z
UID:4121-1684922400-1684927800@mamnonphuonganh.com.vn
SUMMARY:Buffer: Chủ đề tổng kết năm học 2022-2023
DESCRIPTION:
URL:https://mamnonphuonganh.com.vn/event/buffer-chu-de-tong-ket-nam-hoc-2022-2023/
CATEGORIES:Sự kiện Phương Anh
ATTACH;FMTTYPE=image/png:https://mamnonphuonganh.com.vn/wp-content/uploads/2023/05/335326992_1405232660249651_9078369124929781398_n.png
END:VEVENT
BEGIN:VEVENT
DTSTART;TZID=Asia/Krasnoyarsk:20230527T080000
DTEND;TZID=Asia/Krasnoyarsk:20230527T080000
DTSTAMP:20260424T205622
CREATED:20230522T043156Z
LAST-MODIFIED:20230524T094804Z
UID:4126-1685174400-1685174400@mamnonphuonganh.com.vn
SUMMARY:LỄ TRƯỞNG THÀNH CỦA BÉ LỚP 5-6 TUỔI NĂM HỌC 2022-2023
DESCRIPTION:
URL:https://mamnonphuonganh.com.vn/event/le-truong-thanh-cua-be-lop-5-6-tuoi-nam-hoc-2022-2023/
CATEGORIES:Sự kiện Phương Anh
ATTACH;FMTTYPE=image/jpeg:https://mamnonphuonganh.com.vn/wp-content/uploads/2023/05/348906436_532260522264231_2730257616386507722_n.jpg
END:VEVENT
BEGIN:VEVENT
DTSTART;TZID=Asia/Krasnoyarsk:20230530T083000
DTEND;TZID=Asia/Krasnoyarsk:20230530T223000
DTSTAMP:20260424T205622
CREATED:20230604T014055Z
LAST-MODIFIED:20230604T014055Z
UID:4138-1685435400-1685485800@mamnonphuonganh.com.vn
SUMMARY:Lễ Tổng Kết và Liên Hoan Tết Thiếu Nhi
DESCRIPTION:
URL:https://mamnonphuonganh.com.vn/event/le-tong-ket-va-lien-hoan-tet-thieu-nhi/
CATEGORIES:Sự kiện Phương Anh
ATTACH;FMTTYPE=image/jpeg:https://mamnonphuonganh.com.vn/wp-content/uploads/2023/06/le-tong-ket.jpg
END:VEVENT
END:VCALENDAR