BEGIN:VCALENDAR
VERSION:2.0
PRODID:-//Mầm Non Phương Anh - ECPv6.0.6.1//NONSGML v1.0//EN
CALSCALE:GREGORIAN
METHOD:PUBLISH
X-ORIGINAL-URL:https://mamnonphuonganh.com.vn
X-WR-CALDESC:Events for Mầm Non Phương Anh
REFRESH-INTERVAL;VALUE=DURATION:PT1H
X-Robots-Tag:noindex
X-PUBLISHED-TTL:PT1H
BEGIN:VTIMEZONE
TZID:Asia/Krasnoyarsk
BEGIN:STANDARD
TZOFFSETFROM:+0700
TZOFFSETTO:+0700
TZNAME:+07
DTSTART:20230101T000000
END:STANDARD
END:VTIMEZONE
BEGIN:VEVENT
DTSTART;TZID=Asia/Krasnoyarsk:20230607T090000
DTEND;TZID=Asia/Krasnoyarsk:20230607T230000
DTSTAMP:20260424T192524
CREATED:20230630T095059Z
LAST-MODIFIED:20230630T095059Z
UID:4238-1686128400-1686178800@mamnonphuonganh.com.vn
SUMMARY:Trải Nghiệm Khối Venus
DESCRIPTION:
URL:https://mamnonphuonganh.com.vn/event/trai-nghiem-khoi-venus/
END:VEVENT
BEGIN:VEVENT
DTSTART;TZID=Asia/Krasnoyarsk:20230615T100000
DTEND;TZID=Asia/Krasnoyarsk:20230615T233000
DTSTAMP:20260424T192524
CREATED:20230614T101101Z
LAST-MODIFIED:20230614T101416Z
UID:4151-1686823200-1686871800@mamnonphuonganh.com.vn
SUMMARY:SỰ KIỆN BUFFET & CHÚC MỪNG SINH NHẬT THÁNG 6
DESCRIPTION:
URL:https://mamnonphuonganh.com.vn/event/su-kien-buffet-chuc-mung-sinh-nhat-thang-6/
CATEGORIES:Sự kiện Phương Anh
ATTACH;FMTTYPE=image/png:https://mamnonphuonganh.com.vn/wp-content/uploads/2023/06/f28.png
END:VEVENT
BEGIN:VEVENT
DTSTART;TZID=Asia/Krasnoyarsk:20230623T093000
DTEND;TZID=Asia/Krasnoyarsk:20230623T223000
DTSTAMP:20260424T192524
CREATED:20230614T101743Z
LAST-MODIFIED:20230614T101828Z
UID:4157-1687512600-1687559400@mamnonphuonganh.com.vn
SUMMARY:SỰ KIỆN TRẢI NGHIỆM KHỐI STEAM
DESCRIPTION:
URL:https://mamnonphuonganh.com.vn/event/su-kien-trai-nghiem-khoi-steam/
CATEGORIES:Sự kiện Phương Anh
ATTACH;FMTTYPE=image/jpeg:https://mamnonphuonganh.com.vn/wp-content/uploads/2023/06/z4370283585260_341a8c05ed396c591e2ed8c82ed30483-scaled.jpg
END:VEVENT
BEGIN:VEVENT
DTSTART;TZID=Asia/Krasnoyarsk:20230629T153000
DTEND;TZID=Asia/Krasnoyarsk:20230629T173000
DTSTAMP:20260424T192524
CREATED:20230614T102526Z
LAST-MODIFIED:20230628T004834Z
UID:4160-1688052600-1688059800@mamnonphuonganh.com.vn
SUMMARY:Lễ Hội Ẩm Thực Và Du Lịch Các Nước Trên Thế Giới
DESCRIPTION:
URL:https://mamnonphuonganh.com.vn/event/le-hoi-am-thuc-va-du-lich-cac-nuoc-tren-the-gioi/
CATEGORIES:Sự kiện Phương Anh
ATTACH;FMTTYPE=image/jpeg:https://mamnonphuonganh.com.vn/wp-content/uploads/2023/06/z4455595265519_0f55cbc76391c0a43f80a76133a8ed58.jpg
END:VEVENT
END:VCALENDAR