BEGIN:VCALENDAR
VERSION:2.0
PRODID:-//Mầm Non Phương Anh - ECPv6.0.6.1//NONSGML v1.0//EN
CALSCALE:GREGORIAN
METHOD:PUBLISH
X-ORIGINAL-URL:https://mamnonphuonganh.com.vn
X-WR-CALDESC:Events for Mầm Non Phương Anh
REFRESH-INTERVAL;VALUE=DURATION:PT1H
X-Robots-Tag:noindex
X-PUBLISHED-TTL:PT1H
BEGIN:VTIMEZONE
TZID:Asia/Krasnoyarsk
BEGIN:STANDARD
TZOFFSETFROM:+0700
TZOFFSETTO:+0700
TZNAME:+07
DTSTART:20230101T000000
END:STANDARD
END:VTIMEZONE
BEGIN:VEVENT
DTSTART;TZID=Asia/Krasnoyarsk:20230711T080000
DTEND;TZID=Asia/Krasnoyarsk:20230711T113000
DTSTAMP:20260424T175400
CREATED:20230630T095710Z
LAST-MODIFIED:20230710T024918Z
UID:4240-1689062400-1689075000@mamnonphuonganh.com.vn
SUMMARY:Du Lịch Thăm Quan Công Viên Khủng Long Lớp Saturn\, Venus\, Lá
DESCRIPTION:
URL:https://mamnonphuonganh.com.vn/event/du-lich-tham-quan-cong-vien-khung-long-lop-saturn/
CATEGORIES:Sự kiện Phương Anh
ATTACH;FMTTYPE=image/jpeg:https://mamnonphuonganh.com.vn/wp-content/uploads/2023/06/images.jpg
END:VEVENT
BEGIN:VEVENT
DTSTART;TZID=Asia/Krasnoyarsk:20230721T080000
DTEND;TZID=Asia/Krasnoyarsk:20230721T123000
DTSTAMP:20260424T175400
CREATED:20230630T100258Z
LAST-MODIFIED:20230719T100618Z
UID:4245-1689926400-1689942600@mamnonphuonganh.com.vn
SUMMARY:Du Lịch Thủy Cung Khối 5-6 tuổi
DESCRIPTION:
URL:https://mamnonphuonganh.com.vn/event/du-lich-thuy-cung-khoi-steam/
CATEGORIES:Sự kiện Phương Anh
ATTACH;FMTTYPE=image/jpeg:https://mamnonphuonganh.com.vn/wp-content/uploads/2023/06/vinpearl-land-phu-quoc-01.jpg
END:VEVENT
BEGIN:VEVENT
DTSTART;TZID=Asia/Krasnoyarsk:20230728T090000
DTEND;TZID=Asia/Krasnoyarsk:20230728T103000
DTSTAMP:20260424T175400
CREATED:20230630T100625Z
LAST-MODIFIED:20230630T100715Z
UID:4248-1690534800-1690540200@mamnonphuonganh.com.vn
SUMMARY:Sự Kiện Trải Nghiệm Khối Saturn
DESCRIPTION:
URL:https://mamnonphuonganh.com.vn/event/su-kien-trai-nghiem-khoi-saturn/
CATEGORIES:Sự kiện Phương Anh
ATTACH;FMTTYPE=image/jpeg:https://mamnonphuonganh.com.vn/wp-content/uploads/2023/06/z4370283585260_341a8c05ed396c591e2ed8c82ed30483-scaled.jpg
END:VEVENT
BEGIN:VEVENT
DTSTART;TZID=Asia/Krasnoyarsk:20230728T100000
DTEND;TZID=Asia/Krasnoyarsk:20230728T233000
DTSTAMP:20260424T175400
CREATED:20230630T095954Z
LAST-MODIFIED:20230719T100458Z
UID:4243-1690538400-1690587000@mamnonphuonganh.com.vn
SUMMARY:Buttfer Sinh Nhật Tháng 7
DESCRIPTION:
URL:https://mamnonphuonganh.com.vn/event/buttfer-sinh-nhat-thang-7/
CATEGORIES:Sự kiện Phương Anh
ATTACH;FMTTYPE=image/png:https://mamnonphuonganh.com.vn/wp-content/uploads/2023/06/f28.png
END:VEVENT
END:VCALENDAR