BEGIN:VCALENDAR
VERSION:2.0
PRODID:-//Mầm Non Phương Anh - ECPv6.0.6.1//NONSGML v1.0//EN
CALSCALE:GREGORIAN
METHOD:PUBLISH
X-ORIGINAL-URL:https://mamnonphuonganh.com.vn
X-WR-CALDESC:Events for Mầm Non Phương Anh
REFRESH-INTERVAL;VALUE=DURATION:PT1H
X-Robots-Tag:noindex
X-PUBLISHED-TTL:PT1H
BEGIN:VTIMEZONE
TZID:Asia/Krasnoyarsk
BEGIN:STANDARD
TZOFFSETFROM:+0700
TZOFFSETTO:+0700
TZNAME:+07
DTSTART:20240101T000000
END:STANDARD
END:VTIMEZONE
BEGIN:VEVENT
DTSTART;TZID=Asia/Krasnoyarsk:20240129T080000
DTEND;TZID=Asia/Krasnoyarsk:20240202T160000
DTSTAMP:20260424T165552
CREATED:20240123T074423Z
LAST-MODIFIED:20240123T074437Z
UID:5666-1706515200-1706889600@mamnonphuonganh.com.vn
SUMMARY:Tuần lễ các sự kiện về Tết và mùa xuân - Học sinh tham gia trải nghiệm gói bánh chưng tại nhà trường.
DESCRIPTION:
URL:https://mamnonphuonganh.com.vn/event/tuan-le-cac-su-kien-ve-tet-va-mua-xuan-hoc-sinh-tham-gia-trai-nghiem-goi-banh-chung-tai-nha-truong/
CATEGORIES:Sự kiện Phương Anh
ATTACH;FMTTYPE=image/jpeg:https://mamnonphuonganh.com.vn/wp-content/uploads/2024/01/Nguyen-Lieu.jpg
END:VEVENT
BEGIN:VEVENT
DTSTART;VALUE=DATE:20240207
DTEND;VALUE=DATE:20240219
DTSTAMP:20260424T165552
CREATED:20240219T032100Z
LAST-MODIFIED:20240219T032123Z
UID:5719-1707264000-1708300799@mamnonphuonganh.com.vn
SUMMARY:LỊCH NGHỈ TẾT ÂM LỊCH 2024
DESCRIPTION:
URL:https://mamnonphuonganh.com.vn/event/lich-nghi-tet-am-lich-2024/
CATEGORIES:Ngày lễ
ATTACH;FMTTYPE=image/jpeg:https://mamnonphuonganh.com.vn/wp-content/uploads/2024/02/421914529_901522898640051_3704535146742986160_n.jpg
END:VEVENT
BEGIN:VEVENT
DTSTART;TZID=Asia/Krasnoyarsk:20240220T090000
DTEND;TZID=Asia/Krasnoyarsk:20240220T103000
DTSTAMP:20260424T165552
CREATED:20240219T032742Z
LAST-MODIFIED:20240219T033331Z
UID:5721-1708419600-1708425000@mamnonphuonganh.com.vn
SUMMARY:Tham quan đường hoa xuân Bắc Ninh 2024
DESCRIPTION:
URL:https://mamnonphuonganh.com.vn/event/tham-quan-duong-hoa-xuan-bac-ninh-2024/
CATEGORIES:Sự kiện Phương Anh
ATTACH;FMTTYPE=image/jpeg:https://mamnonphuonganh.com.vn/wp-content/uploads/2024/02/IMG_6833-1.jpg
END:VEVENT
END:VCALENDAR