BEGIN:VCALENDAR
VERSION:2.0
PRODID:-//Mầm Non Phương Anh - ECPv6.0.6.1//NONSGML v1.0//EN
CALSCALE:GREGORIAN
METHOD:PUBLISH
X-ORIGINAL-URL:https://mamnonphuonganh.com.vn
X-WR-CALDESC:Events for Mầm Non Phương Anh
REFRESH-INTERVAL;VALUE=DURATION:PT1H
X-Robots-Tag:noindex
X-PUBLISHED-TTL:PT1H
BEGIN:VTIMEZONE
TZID:Asia/Krasnoyarsk
BEGIN:STANDARD
TZOFFSETFROM:+0700
TZOFFSETTO:+0700
TZNAME:+07
DTSTART:20240101T000000
END:STANDARD
END:VTIMEZONE
BEGIN:VEVENT
DTSTART;TZID=Asia/Krasnoyarsk:20240428T080000
DTEND;TZID=Asia/Krasnoyarsk:20240501T170000
DTSTAMP:20260420T162135
CREATED:20240422T043449Z
LAST-MODIFIED:20240422T063254Z
UID:5933-1714291200-1714582800@mamnonphuonganh.com.vn
SUMMARY:Nghỉ lễ 30/4 và 01/05
DESCRIPTION:
URL:https://mamnonphuonganh.com.vn/event/nghi-le-30-4-va-01-05/
CATEGORIES:Ngày lễ
ATTACH;FMTTYPE=image/jpeg:https://mamnonphuonganh.com.vn/wp-content/uploads/2024/04/Untitled.jpg
END:VEVENT
BEGIN:VEVENT
DTSTART;TZID=Asia/Krasnoyarsk:20240525T090000
DTEND;TZID=Asia/Krasnoyarsk:20240525T233000
DTSTAMP:20260420T162135
CREATED:20240525T045624Z
LAST-MODIFIED:20240525T045635Z
UID:6021-1716627600-1716679800@mamnonphuonganh.com.vn
SUMMARY:LỄ TRƯỞNG THÀNH- HỌC SINH 5 TUỔI
DESCRIPTION:
URL:https://mamnonphuonganh.com.vn/event/le-truong-thanh-hoc-sinh-5-tuoi/
CATEGORIES:Sự kiện Phương Anh
ATTACH;FMTTYPE=image/jpeg:https://mamnonphuonganh.com.vn/wp-content/uploads/2024/05/Backdrop-le-truong-thanh.jpg
END:VEVENT
BEGIN:VEVENT
DTSTART;TZID=Asia/Krasnoyarsk:20240529T083000
DTEND;TZID=Asia/Krasnoyarsk:20240529T220000
DTSTAMP:20260420T162135
CREATED:20240525T045851Z
LAST-MODIFIED:20240525T045851Z
UID:6025-1716971400-1717020000@mamnonphuonganh.com.vn
SUMMARY:LỄ BẾ GIẢNG NĂM HỌC 2023-2024
DESCRIPTION:
URL:https://mamnonphuonganh.com.vn/event/le-be-giang-nam-hoc-2023-2024/
CATEGORIES:Sự kiện Phương Anh
ATTACH;FMTTYPE=image/jpeg:https://mamnonphuonganh.com.vn/wp-content/uploads/2024/05/442481263_971533941638946_1761984438360995171_n.jpg
END:VEVENT
END:VCALENDAR